BEGIN:VCALENDAR
VERSION:2.0
PRODID:-//Lan Su Chinese Garden - ECPv6.15.20//NONSGML v1.0//EN
CALSCALE:GREGORIAN
METHOD:PUBLISH
X-ORIGINAL-URL:https://lansugarden.org
X-WR-CALDESC:Events for Lan Su Chinese Garden
REFRESH-INTERVAL;VALUE=DURATION:PT1H
X-Robots-Tag:noindex
X-PUBLISHED-TTL:PT1H
BEGIN:VTIMEZONE
TZID:America/Los_Angeles
BEGIN:DAYLIGHT
TZOFFSETFROM:-0800
TZOFFSETTO:-0700
TZNAME:PDT
DTSTART:20250309T100000
END:DAYLIGHT
BEGIN:STANDARD
TZOFFSETFROM:-0700
TZOFFSETTO:-0800
TZNAME:PST
DTSTART:20251102T090000
END:STANDARD
BEGIN:DAYLIGHT
TZOFFSETFROM:-0800
TZOFFSETTO:-0700
TZNAME:PDT
DTSTART:20260308T100000
END:DAYLIGHT
BEGIN:STANDARD
TZOFFSETFROM:-0700
TZOFFSETTO:-0800
TZNAME:PST
DTSTART:20261101T090000
END:STANDARD
BEGIN:DAYLIGHT
TZOFFSETFROM:-0800
TZOFFSETTO:-0700
TZNAME:PDT
DTSTART:20270314T100000
END:DAYLIGHT
BEGIN:STANDARD
TZOFFSETFROM:-0700
TZOFFSETTO:-0800
TZNAME:PST
DTSTART:20271107T090000
END:STANDARD
END:VTIMEZONE
BEGIN:VEVENT
DTSTART;TZID=America/Los_Angeles:20260321T100000
DTEND;TZID=America/Los_Angeles:20260321T183000
DTSTAMP:20260424T043821
CREATED:20260312T013728Z
LAST-MODIFIED:20260314T181618Z
UID:10000868-1774087200-1774117800@lansugarden.org
SUMMARY:Magnolia Floral Showcase
DESCRIPTION:March 20-30\, 2026 \n\n\n\nFind inspiration and moments of pure beauty in a wonderland of flowers! Enjoy large-scale magnolia installations throughout the garden\, along with interpretive displays featuring educational posters\, huayi floral pieces\, and a magnolia penjing.   \n\n\n\nOur featured floral artist\, Lauren Say\, is a past participant in our Chrysanthemum Festival Floral Design Showcase. In 2025\, her design “Seasonal Suspense” took second place in the People’s Choice Awards and third prize from the judges. Come see how she transforms the new flower of the season into works of art!  \n\n\n\nLan Su’s own horticulture team will complete the showcase with their artistic takes on magnolias in floral design.   \n\n\n\nThe Magnolia Floral Showcase is free with admission or membership\, so grab a friend and come explore!  \n\n\n\n\n\n\n\n\n\nAdmission Rates\n\n\n\n\nLan Su Members & Guests: FREE\n\n\n\nAdult: $16.95\n\n\n\nSenior (62+) or Student (18+ with ID): $15.95\n\n\n\nYouth (6-18 yr): $13.95\n\n\n\nChild (5 yr & under): FREE\n\n\n\n\nNote: A $0.95 service fee is reflected in each paid admission. \n\n\n\nDiscounted Admission Offers\n\n\n\nThese offers must be redeemed in person at the Lan Su Ticket Booth to confirm eligibility. \n\n\n\nEBT/WIC Cardholders\n\n\n\nDiscounted admission of $5.00 per person is available for up to four individuals per EBT/WIC card. To claim this offer\, please present your EBT/WIC card and a valid form of photo ID at the Ticket Booth. \n\n\n\nVeterans & Military\n\n\n\nWe offer $2 off admission for active-duty military\, veterans\, and their immediate family members with valid ID. The discount must be redeemed in person at the Ticket Booth. \n\n\n\n\n\n\n\nParking & Directions\n\n\n\nFree Lan Su Parking\n\n\n\nThere is free first come\, first served parking in our sister lot next to the garden at 424 NW Third Avenue. Additional metered parking and garages are available on surrounding streets.
URL:https://lansugarden.org/event/magnolia-floral-showcase/2026-03-21/
LOCATION:Lan Su Chinese Garden\, 239 NW Everett Street\, Portland\, Oregon\, 97209
CATEGORIES:Art,Free with admission or membership,Horticulture,Magnolia Festival
ATTACH;FMTTYPE=image/png:https://lansugarden.org/wp-content/uploads/lauren-say-floral-design-1200x800-1.webp
END:VEVENT
BEGIN:VEVENT
DTSTART;TZID=America/Los_Angeles:20260321T110000
DTEND;TZID=America/Los_Angeles:20260321T120000
DTSTAMP:20260424T043821
CREATED:20260225T221411Z
LAST-MODIFIED:20260305T205104Z
UID:10000802-1774090800-1774094400@lansugarden.org
SUMMARY:Garden Tea Tastings with Hannah Ma (11 AM)
DESCRIPTION:Overview\n\n\n\nTickets\n\n\n\nTea Master\n\n\n\nParking & Directions\n\n\n\n\nSeries Overview\n\n\n\nThis spring\, take a front-row seat to Chinese tea culture with our intimate Garden Tea Tasting Series (March–May)\, led by tea master Hannah Ma. Savor three seasonal teas from Yun Shui Teahouse\, learn traditional brewing techniques\, and explore the stories behind centuries of tea culture. Your ticket includes admission to Lan Su Chinese Garden on the day of your tasting. \n\n\n\nAfter your 1-hour tasting\, you’ll receive a porcelain teacup to continue your journey at home. All sampled teas will also be available for purchase in our Yun Shui Teahouse. \n\n\n\nFull Series Schedule\n\n\n\nSaturdays & Sundays\, March 21–April 26 | 11:00 AM & 1:00 PM \n\n\n\nFridays & Sundays\, May 1–May 31 | 1:00 PM & 3:00 PM \n\n\n\n\n\n\n\nGet Tickets\n\n\n\nSeating is very limited for these intimate group tastings\, so reserve your seat early. Your ticket includes garden admission on the day of your tasting. \n\n\n\n\nLan Su Members & Guests: $36.95\n\n\n\nNon-Members: $55.95\n\n\n\n\nNote: A $0.95 service fee is reflected in each paid ticket \n\n\n\n\n\n\n\n\n\nMeet the Tea Master: Hannah Ma \n\n\n\n\n\n\n\n\n\n\n\nA Portland native\, Hannah grew up drinking tea almost as often as water. Her passion was formally cultivated during her senior year of high school\, when she gained extensive experience with diverse tea blends and preparation techniques as a tea-rista at Portal Tea Company (formerly Tea Chai Té). Now a beverage enthusiast of more than six years\, Hannah is thrilled to join Lan Su’s Tea Tasting program\, where she shares science-based insights into tea’s properties and explores the rich traditions of Chinese-style tea ceremonies. \n\n\n\n\n\n\n\n\n\nParking & Directions\n\n\n\nFree Lan Su Parking\n\n\n\nThere is free first come\, first served parking in our sister lot next to the garden at 424 NW Third Avenue. Additional metered parking and garages are available on surrounding streets.
URL:https://lansugarden.org/event/garden-tea-tasting-11am/2026-03-21/
LOCATION:Lan Su Chinese Garden\, 239 NW Everett Street\, Portland\, Oregon\, 97209
CATEGORIES:Tea
ATTACH;FMTTYPE=image/webp:https://lansugarden.org/wp-content/uploads/garden-tea-tastings-hannah-ma-1200x800-1.webp
END:VEVENT
BEGIN:VEVENT
DTSTART;TZID=America/Los_Angeles:20260321T130000
DTEND;TZID=America/Los_Angeles:20260321T140000
DTSTAMP:20260424T043821
CREATED:20260225T222912Z
LAST-MODIFIED:20260305T210344Z
UID:10000856-1774098000-1774101600@lansugarden.org
SUMMARY:Garden Tea Tastings with Hannah Ma (1 PM)
DESCRIPTION:Overview\n\n\n\nTickets\n\n\n\nTea Master\n\n\n\nParking & Directions\n\n\n\n\nSeries Overview\n\n\n\nThis spring\, take a front-row seat to Chinese tea culture with our intimate Garden Tea Tasting Series (March–May)\, led by tea master Hannah Ma. Savor three seasonal teas from Yun Shui Teahouse\, learn traditional brewing techniques\, and explore the stories behind centuries of tea culture. Your ticket includes admission to Lan Su Chinese Garden on the day of your tasting. \n\n\n\nAfter your 1-hour tasting\, you’ll receive a porcelain teacup to continue your journey at home. All sampled teas will also be available for purchase in our Yun Shui Teahouse. \n\n\n\nFull Series Schedule\n\n\n\nSaturdays & Sundays\, March 21–April 26 | 11:00 AM & 1:00 PM \n\n\n\nFridays & Sundays\, May 1–May 31 | 1:00 PM & 3:00 PM \n\n\n\n\n\n\n\nGet Tickets\n\n\n\nSeating is very limited for these intimate group tastings\, so reserve your seat early. Your ticket includes garden admission on the day of your tasting. \n\n\n\n\nLan Su Members & Guests: $36.95\n\n\n\nNon-Members: $55.95\n\n\n\n\nNote: A $0.95 service fee is reflected in each paid ticket \n\n\n\n\n\n\n\n\n\nMeet the Tea Master: Hannah Ma \n\n\n\n\n\n\n\n\n\n\n\nA Portland native\, Hannah grew up drinking tea almost as often as water. Her passion was formally cultivated during her senior year of high school\, when she gained extensive experience with diverse tea blends and preparation techniques as a tea-rista at Portal Tea Company (formerly Tea Chai Té). Now a beverage enthusiast of more than six years\, Hannah is thrilled to join Lan Su’s Tea Tasting program\, where she shares science-based insights into tea’s properties and explores the rich traditions of Chinese-style tea ceremonies. \n\n\n\n\n\n\n\n\n\nParking & Directions\n\n\n\nFree Lan Su Parking\n\n\n\nThere is free first come\, first served parking in our sister lot next to the garden at 424 NW Third Avenue. Additional metered parking and garages are available on surrounding streets.
URL:https://lansugarden.org/event/garden-tea-tasting-1pm/2026-03-21/
LOCATION:Lan Su Chinese Garden\, 239 NW Everett Street\, Portland\, Oregon\, 97209
CATEGORIES:Tea
ATTACH;FMTTYPE=image/webp:https://lansugarden.org/wp-content/uploads/garden-tea-tastings-hannah-ma-1200x800-1.webp
END:VEVENT
BEGIN:VEVENT
DTSTART;TZID=America/Los_Angeles:20260321T140000
DTEND;TZID=America/Los_Angeles:20260321T150000
DTSTAMP:20260424T043821
CREATED:20260314T185122Z
LAST-MODIFIED:20260324T191006Z
UID:10000903-1774101600-1774105200@lansugarden.org
SUMMARY:Floral Artist Meet & Greet / Demo
DESCRIPTION:Saturdays\, March 21 & 27 | 2-3 PM | Free with admission or membership  \n\n\n\nPart of Magnolia Festival\, this relaxed weekend program offers a chance to watch floral artistry in action and meet our featured floral artist\, Lauren Say. Stop by to see her creative process up close as she works with seasonal blooms and shares a bit about her approach to floral design. \n\n\n\nLauren previously participated in Lan Su’s Chrysanthemum Festival Floral Design Showcase\, where her 2025 design “Seasonal Suspense\,” pictured above\, earned second place in the People’s Choice Awards and third place from the judges (among about 20 floral artists). \n\n\n\nCome get inspired\, ask questions\, and see how seasonal flowers can be transformed into beautiful works of art. This program is free with garden admission or membership\, so bring a friend and enjoy a creative moment in the garden. \n\n\n\n\n\n\n\n\n\n\n\nAdmission Rates\n\n\n\n\nLan Su Members & Guests: FREE\n\n\n\nAdult: $16.95\n\n\n\nSenior (62+) or Student (18+ with ID): $15.95\n\n\n\nYouth (6-18 yr): $13.95\n\n\n\nChild (5 yr & under): FREE\n\n\n\n\nNote: A $0.95 service fee is reflected in each paid admission. \n\n\n\nDiscounted Admission Offers\n\n\n\nThese offers must be redeemed in person at the Lan Su Ticket Booth to confirm eligibility. \n\n\n\nEBT/WIC Cardholders\n\n\n\nDiscounted admission of $5.00 per person is available for up to four individuals per EBT/WIC card. To claim this offer\, please present your EBT/WIC card and a valid form of photo ID at the Ticket Booth. \n\n\n\nVeterans & Military\n\n\n\nWe offer $2 off admission for active-duty military\, veterans\, and their immediate family members with valid ID. The discount must be redeemed in person at the Ticket Booth. \n\n\n\n\n\n\n\n\n\nParking & Directions\n\n\n\nFree Lan Su Parking\n\n\n\nThere is free first come\, first served parking in our sister lot next to the garden at 424 NW Third Avenue. Additional metered parking and garages are available on surrounding streets.
URL:https://lansugarden.org/event/floral-artist-meet-greet-demo/2026-03-21/
LOCATION:Lan Su Chinese Garden\, 239 NW Everett Street\, Portland\, Oregon\, 97209
CATEGORIES:Free with admission or membership,Horticulture,Magnolia Festival
ATTACH;FMTTYPE=image/webp:https://lansugarden.org/wp-content/uploads/lauren-say-floral-design-window-1200x800-1-bv2ruv.webp
ORGANIZER;CN="Lan Su Chinese Garden":MAILTO:info@lansugarden.org
END:VEVENT
END:VCALENDAR