BEGIN:VCALENDAR
VERSION:2.0
PRODID:-//Lan Su Chinese Garden - ECPv6.15.20//NONSGML v1.0//EN
CALSCALE:GREGORIAN
METHOD:PUBLISH
X-ORIGINAL-URL:https://lansugarden.org
X-WR-CALDESC:Events for Lan Su Chinese Garden
REFRESH-INTERVAL;VALUE=DURATION:PT1H
X-Robots-Tag:noindex
X-PUBLISHED-TTL:PT1H
BEGIN:VTIMEZONE
TZID:America/Los_Angeles
BEGIN:DAYLIGHT
TZOFFSETFROM:-0800
TZOFFSETTO:-0700
TZNAME:PDT
DTSTART:20250309T100000
END:DAYLIGHT
BEGIN:STANDARD
TZOFFSETFROM:-0700
TZOFFSETTO:-0800
TZNAME:PST
DTSTART:20251102T090000
END:STANDARD
BEGIN:DAYLIGHT
TZOFFSETFROM:-0800
TZOFFSETTO:-0700
TZNAME:PDT
DTSTART:20260308T100000
END:DAYLIGHT
BEGIN:STANDARD
TZOFFSETFROM:-0700
TZOFFSETTO:-0800
TZNAME:PST
DTSTART:20261101T090000
END:STANDARD
BEGIN:DAYLIGHT
TZOFFSETFROM:-0800
TZOFFSETTO:-0700
TZNAME:PDT
DTSTART:20270314T100000
END:DAYLIGHT
BEGIN:STANDARD
TZOFFSETFROM:-0700
TZOFFSETTO:-0800
TZNAME:PST
DTSTART:20271107T090000
END:STANDARD
END:VTIMEZONE
BEGIN:VEVENT
DTSTART;TZID=America/Los_Angeles:20260325T090000
DTEND;TZID=America/Los_Angeles:20260325T100000
DTSTAMP:20260420T102831
CREATED:20260106T235841Z
LAST-MODIFIED:20260331T193026Z
UID:10000673-1774429200-1774432800@lansugarden.org
SUMMARY:Weekly Member Hour
DESCRIPTION:Members and their guests are invited to enjoy an exclusive hour in the garden in the early morning glow. \n\n\n\n\n\n\n\nWednesdays\, 9:00–10:00 AM (December 1\, 2025 – April 8\, 2026) \n\n\n\nThis exclusive hour allows members to take a quiet morning stroll through the garden as the city begins its day \n\n\n\nMembers are encouraged to bring guests in accordance with their membership level. This is a wonderful opportunity to introduce friends and family to Lan Su\, sharing the peaceful ambiance of the garden during these exclusive hours. \n\n\n\n\nExplore Membership
URL:https://lansugarden.org/event/weekly-member-hour-3/2026-03-25/
LOCATION:Lan Su Chinese Garden\, 239 NW Everett Street\, Portland\, Oregon\, 97209
CATEGORIES:Member Exclusive
ATTACH;FMTTYPE=image/jpeg:https://lansugarden.org/wp-content/uploads/Moongate2_small.jpg
ORGANIZER;CN="Lan Su Chinese Garden":MAILTO:info@lansugarden.org
END:VEVENT
BEGIN:VEVENT
DTSTART;TZID=America/Los_Angeles:20260325T100000
DTEND;TZID=America/Los_Angeles:20260325T183000
DTSTAMP:20260420T102831
CREATED:20260312T013728Z
LAST-MODIFIED:20260314T181618Z
UID:10000872-1774432800-1774463400@lansugarden.org
SUMMARY:Magnolia Floral Showcase
DESCRIPTION:March 20-30\, 2026 \n\n\n\nFind inspiration and moments of pure beauty in a wonderland of flowers! Enjoy large-scale magnolia installations throughout the garden\, along with interpretive displays featuring educational posters\, huayi floral pieces\, and a magnolia penjing.   \n\n\n\nOur featured floral artist\, Lauren Say\, is a past participant in our Chrysanthemum Festival Floral Design Showcase. In 2025\, her design “Seasonal Suspense” took second place in the People’s Choice Awards and third prize from the judges. Come see how she transforms the new flower of the season into works of art!  \n\n\n\nLan Su’s own horticulture team will complete the showcase with their artistic takes on magnolias in floral design.   \n\n\n\nThe Magnolia Floral Showcase is free with admission or membership\, so grab a friend and come explore!  \n\n\n\n\n\n\n\n\n\nAdmission Rates\n\n\n\n\nLan Su Members & Guests: FREE\n\n\n\nAdult: $16.95\n\n\n\nSenior (62+) or Student (18+ with ID): $15.95\n\n\n\nYouth (6-18 yr): $13.95\n\n\n\nChild (5 yr & under): FREE\n\n\n\n\nNote: A $0.95 service fee is reflected in each paid admission. \n\n\n\nDiscounted Admission Offers\n\n\n\nThese offers must be redeemed in person at the Lan Su Ticket Booth to confirm eligibility. \n\n\n\nEBT/WIC Cardholders\n\n\n\nDiscounted admission of $5.00 per person is available for up to four individuals per EBT/WIC card. To claim this offer\, please present your EBT/WIC card and a valid form of photo ID at the Ticket Booth. \n\n\n\nVeterans & Military\n\n\n\nWe offer $2 off admission for active-duty military\, veterans\, and their immediate family members with valid ID. The discount must be redeemed in person at the Ticket Booth. \n\n\n\n\n\n\n\nParking & Directions\n\n\n\nFree Lan Su Parking\n\n\n\nThere is free first come\, first served parking in our sister lot next to the garden at 424 NW Third Avenue. Additional metered parking and garages are available on surrounding streets.
URL:https://lansugarden.org/event/magnolia-floral-showcase/2026-03-25/
LOCATION:Lan Su Chinese Garden\, 239 NW Everett Street\, Portland\, Oregon\, 97209
CATEGORIES:Art,Free with admission or membership,Horticulture,Magnolia Festival
ATTACH;FMTTYPE=image/png:https://lansugarden.org/wp-content/uploads/lauren-say-floral-design-1200x800-1.webp
END:VEVENT
BEGIN:VEVENT
DTSTART;TZID=America/Los_Angeles:20260325T110000
DTEND;TZID=America/Los_Angeles:20260325T113000
DTSTAMP:20260420T102831
CREATED:20250819T214828Z
LAST-MODIFIED:20260220T232114Z
UID:10000761-1774436400-1774438200@lansugarden.org
SUMMARY:#PlantWednesday Spotlight
DESCRIPTION:Join our horticulture team every Wednesday for a tour diving into a plant in its peak\, gardening tips\, and more. \n\n\n\n\n\n\n\nWednesdays\, 11-11:30 AM | Free with admission or membership \n\n\n\nThe #PlantWednesday Spotlight is a unique “show & tell” program featuring different captivating topics every month. Meet Lan Su’s horticulture team each Wednesday to explore\, learn\, and connect with the natural beauty of Lan Su. These are short 30-min sessions that showcase a horticultural wonder\, technique\, or tool that our passionate horticulturists want to share with fellow plant enthusiasts. Each session will shine a light on the behind-the-scenes operations of the garden\, highlight a plant at its peak beauty\, or focus on recent improvements to our collection. \n\n\n\nEach session will explore a different part of the garden based on that week’s topic. When you arrive\, please check in with the front door staff or volunteers for the exact location to meet in. \n\n\n\n\nGet Admission\n\n\n\n\nThis program is FREE with garden admission or membership. No registration needed.
URL:https://lansugarden.org/event/plant-wednesday-spotlight/2026-03-25/
LOCATION:Lan Su Chinese Garden\, 239 NW Everett Street\, Portland\, Oregon\, 97209
CATEGORIES:Free with admission or membership,Horticulture,Tours
ATTACH;FMTTYPE=image/png:https://lansugarden.org/wp-content/uploads/PlantWednesday-Spotlight-hidden-garden.png
ORGANIZER;CN="Lan Su Chinese Garden":MAILTO:info@lansugarden.org
END:VEVENT
END:VCALENDAR