BEGIN:VCALENDAR
VERSION:2.0
PRODID:-//Lan Su Chinese Garden - ECPv6.15.20//NONSGML v1.0//EN
CALSCALE:GREGORIAN
METHOD:PUBLISH
X-ORIGINAL-URL:https://lansugarden.org
X-WR-CALDESC:Events for Lan Su Chinese Garden
REFRESH-INTERVAL;VALUE=DURATION:PT1H
X-Robots-Tag:noindex
X-PUBLISHED-TTL:PT1H
BEGIN:VTIMEZONE
TZID:America/Los_Angeles
BEGIN:DAYLIGHT
TZOFFSETFROM:-0800
TZOFFSETTO:-0700
TZNAME:PDT
DTSTART:20250309T100000
END:DAYLIGHT
BEGIN:STANDARD
TZOFFSETFROM:-0700
TZOFFSETTO:-0800
TZNAME:PST
DTSTART:20251102T090000
END:STANDARD
BEGIN:DAYLIGHT
TZOFFSETFROM:-0800
TZOFFSETTO:-0700
TZNAME:PDT
DTSTART:20260308T100000
END:DAYLIGHT
BEGIN:STANDARD
TZOFFSETFROM:-0700
TZOFFSETTO:-0800
TZNAME:PST
DTSTART:20261101T090000
END:STANDARD
BEGIN:DAYLIGHT
TZOFFSETFROM:-0800
TZOFFSETTO:-0700
TZNAME:PDT
DTSTART:20270314T100000
END:DAYLIGHT
BEGIN:STANDARD
TZOFFSETFROM:-0700
TZOFFSETTO:-0800
TZNAME:PST
DTSTART:20271107T090000
END:STANDARD
END:VTIMEZONE
BEGIN:VEVENT
DTSTART;TZID=America/Los_Angeles:20260419T110000
DTEND;TZID=America/Los_Angeles:20260419T130000
DTSTAMP:20260420T131553
CREATED:20260403T212601Z
LAST-MODIFIED:20260403T220007Z
UID:10000938-1776596400-1776603600@lansugarden.org
SUMMARY:Weiqi/Go Teaching and Demonstrating
DESCRIPTION:The Portland Go Club provides interactive teachings on the rules\, strategies\, and history of Weiqi. \n\n\n\n\n\n\n\n11 AM – 1 PM | Every 3rd Sunday\, April 19 – September 20\, 2026 \n\n\n\nWeiqi\, also known as Go\, holds the distinction of being the oldest continuously played strategy game globally\, with origins dating back at least 3\,500 years. While its rules can be grasped in mere minutes\, the game’s strategies and historical significance are vast. As part of our ongoing cultural programs\, the Portland Go Club will provide teachings and demonstrations on the rules\, strategies\, and history of Weiqi\, considered one of the four traditional Scholarly Arts. Attendees will have the opportunity to observe live demonstrations and engage in Weiqi gameplay with volunteers from the Portland Go Club. \n\n\n\n\nGet Admission\n\n\n\n\n\n\n\n\n\n\nAbout the Portland Go Club\n\n\n\nThe Portland Go Club\, established in 1977\, has been facilitating Go/Weiqi meetups and events for nearly 50 years in the Portland area. The club hosts two weekly gatherings for players of all skill levels to play and learn about the game and its strategies. PGC hosts various community events including an annual Statewide tournament\, workshops taught by Professional Weiqi players\, educational tabling at cultural events\, and workshops for new players. We welcome players of all experience levels and are happy to teach new players at any of our meetups. \n\n\n\n\nLearn more\n\n\n\n\n\n\n\n\nParking & Directions\n\n\n\nFree Lan Su Parking\n\n\n\nThere is free first come\, first served parking in our sister lot next to the garden at 424 NW Third Avenue. Additional metered parking and garages are available on surrounding streets.
URL:https://lansugarden.org/event/weiqi-go-teaching-and-demonstrating-3/2026-04-19/
LOCATION:Lan Su Chinese Garden\, 239 NW Everett Street\, Portland\, Oregon\, 97209
CATEGORIES:Free with admission or membership
ATTACH;FMTTYPE=image/jpeg:https://lansugarden.org/wp-content/uploads/weichi-in-the-garden_2.webp
END:VEVENT
BEGIN:VEVENT
DTSTART;TZID=America/Los_Angeles:20260419T120000
DTEND;TZID=America/Los_Angeles:20260419T160000
DTSTAMP:20260420T131553
CREATED:20260314T182118Z
LAST-MODIFIED:20260314T182121Z
UID:10000913-1776600000-1776614400@lansugarden.org
SUMMARY:Magnolia Coloring Corner
DESCRIPTION:Fridays & Sundays\, March 20 – April 26 | 12-4 PM | Free with admission or membership \n\n\n\nStop by for a relaxed\, all-ages magnolia craft activity during Magnolia Festival at Lan Su Chinese Garden. Drop in anytime to create your own magnolia-inspired artwork using simple stencils and coloring tools. \n\n\n\nAll materials are provided—just trace\, color\, and let your creativity flow! Take your finished piece home as a keepsake or share it with someone special. \n\n\n\nThis activity is free with garden admission or membership and perfect for families\, kids\, and anyone who wants a relaxing moment of art in the garden. \n\n\n\n\n\n\n\n\n\n\n\nAdmission Rates\n\n\n\n\nLan Su Members & Guests: FREE\n\n\n\nAdult: $16.95\n\n\n\nSenior (62+) or Student (18+ with ID): $15.95\n\n\n\nYouth (6-18 yr): $13.95\n\n\n\nChild (5 yr & under): FREE\n\n\n\n\nNote: A $0.95 service fee is reflected in each paid admission. \n\n\n\nDiscounted Admission Offers\n\n\n\nThese offers must be redeemed in person at the Lan Su Ticket Booth to confirm eligibility. \n\n\n\nEBT/WIC Cardholders\n\n\n\nDiscounted admission of $5.00 per person is available for up to four individuals per EBT/WIC card. To claim this offer\, please present your EBT/WIC card and a valid form of photo ID at the Ticket Booth. \n\n\n\nVeterans & Military\n\n\n\nWe offer $2 off admission for active-duty military\, veterans\, and their immediate family members with valid ID. The discount must be redeemed in person at the Ticket Booth. \n\n\n\n\n\n\n\n\n\nParking & Directions\n\n\n\nFree Lan Su Parking\n\n\n\nThere is free first come\, first served parking in our sister lot next to the garden at 424 NW Third Avenue. Additional metered parking and garages are available on surrounding streets.
URL:https://lansugarden.org/event/magnolia-coloring-corner/2026-04-19/
LOCATION:Lan Su Chinese Garden\, 239 NW Everett Street\, Portland\, Oregon\, 97209
CATEGORIES:Family Fun,Free with admission or membership,Magnolia Festival
ATTACH;FMTTYPE=image/webp:https://lansugarden.org/wp-content/uploads/magnolia-stencil-colored-e1773508590456-eooYoH.webp
ORGANIZER;CN="Lan Su Chinese Garden":MAILTO:info@lansugarden.org
END:VEVENT
END:VCALENDAR