BEGIN:VCALENDAR
VERSION:2.0
PRODID:-//Lan Su Chinese Garden - ECPv6.15.20//NONSGML v1.0//EN
CALSCALE:GREGORIAN
METHOD:PUBLISH
X-ORIGINAL-URL:https://lansugarden.org
X-WR-CALDESC:Events for Lan Su Chinese Garden
REFRESH-INTERVAL;VALUE=DURATION:PT1H
X-Robots-Tag:noindex
X-PUBLISHED-TTL:PT1H
BEGIN:VTIMEZONE
TZID:America/Los_Angeles
BEGIN:DAYLIGHT
TZOFFSETFROM:-0800
TZOFFSETTO:-0700
TZNAME:PDT
DTSTART:20250309T100000
END:DAYLIGHT
BEGIN:STANDARD
TZOFFSETFROM:-0700
TZOFFSETTO:-0800
TZNAME:PST
DTSTART:20251102T090000
END:STANDARD
BEGIN:DAYLIGHT
TZOFFSETFROM:-0800
TZOFFSETTO:-0700
TZNAME:PDT
DTSTART:20260308T100000
END:DAYLIGHT
BEGIN:STANDARD
TZOFFSETFROM:-0700
TZOFFSETTO:-0800
TZNAME:PST
DTSTART:20261101T090000
END:STANDARD
BEGIN:DAYLIGHT
TZOFFSETFROM:-0800
TZOFFSETTO:-0700
TZNAME:PDT
DTSTART:20270314T100000
END:DAYLIGHT
BEGIN:STANDARD
TZOFFSETFROM:-0700
TZOFFSETTO:-0800
TZNAME:PST
DTSTART:20271107T090000
END:STANDARD
END:VTIMEZONE
BEGIN:VEVENT
DTSTART;TZID=America/Los_Angeles:20260501T000000
DTEND;TZID=America/Los_Angeles:20260531T235959
DTSTAMP:20260424T060019
CREATED:20260414T185257Z
LAST-MODIFIED:20260417T204101Z
UID:10001282-1777593600-1780271999@lansugarden.org
SUMMARY:AANHPI Heritage Month – Celebrate Our Stories!
DESCRIPTION:Join Lan Su to celebrate Asian American\, Native Hawaiian\, and Pacific Islander (AANHPI) Heritage Month! In partnership with more than 20 local cultural organizations\, performers\, and artists\, we explore the history\, traditions\, and arts that make up the rich cultural tapestry of AANHPI. \n\n\n\nEvery May\, we highlight the stories\, the culture\, and the expressions of our AANHPI communities. Enjoy a display of traditional outfits\, cultural performances\, vendors from local AANHPI communities\, educational talks\, and demonstrations\, while learning all about these different cultures and traditions. We hope everyone will join us in celebrating our cultural diversity! \n\n\n\nPopular Programs\n\n\n\nBelow are some examples of AANHPI Heritage Month festivities at Lan Su Chinese Garden. \n\n\n\n\n\n\n\n\n\n\n\nThreading Together – Traditional Attire Exhibit\n\n\n\nMay 1 – June 21 \n\n\n\nClothing and attire are among the more visible elements of culture that tell stories about a place’s heritage and history. From design to color and pattern\, these pieces can also serve as symbols of significant cultural elements. Threading Together is an exhibit showcasing 7-10 traditional outfits from local AANHPI community members that narrate the stories of their diverse and rich cultural heritage. \n\n\n\n\n\n\n\n\n\n\n\n\n\nCultural Immersion Saturdays\n\n\n\nMay 9\,16\, 23\, & 30 \n\n\n\nEach “Cultural Immersion Saturday” showcases one or more AANHPI cultures\, highlighting unique cultural elements that hold significance within their communities. Lan Su collaborates with various cultural organizations\, providing the garden as a platform for cultural performances\, educational talks\, and interactive family activities. \n\n\n\n\n\n\n\n\n\n\n\n\n\nMother’s Day at Lan Su \n\n\n\nMay 10 \n\n\n\nMake this Mother’s Day unforgettable at Lan Su\, with a day filled with blossoms\, tea\, and cultural experiences. \n\n\n\n\n\n\n\n\n\n\n\n\n\nOregon Rises Above Hate (ORAH) \n\n\n\nMay 2 \n\n\n\nSince March 16\, 2021\, when news of the Atlanta shootings broke\, Lan Su Chinese Garden has worked with community leaders to take swift action—convening dozens of partners within a week and launching the first response event in under two months. \n\n\n\nDespite pandemic challenges\, this effort has grown into an annual gathering that fosters resilience and unity—sharing resources\, amplifying community events\, raising awareness\, and celebrating the diversity of the AANHPI community. \n\n\n\n\n\n\n\n\n\nParking & Directions\n\n\n\nFree Lan Su Parking\n\n\n\nThere is free first come\, first served parking in our sister lot next to the garden at 424 NW Third Avenue. Additional metered parking and garages are available on surrounding streets.
URL:https://lansugarden.org/event/aanhpi-heritage-month-celebrate-our-stories/
LOCATION:Lan Su Chinese Garden\, 239 NW Everett Street\, Portland\, Oregon\, 97209
CATEGORIES:Free with admission or membership
ATTACH;FMTTYPE=image/webp:https://lansugarden.org/wp-content/uploads/Web-2.webp
END:VEVENT
BEGIN:VEVENT
DTSTART;TZID=America/Los_Angeles:20260501T000000
DTEND;TZID=America/Los_Angeles:20260621T235959
DTSTAMP:20260424T060019
CREATED:20260411T221003Z
LAST-MODIFIED:20260417T203115Z
UID:10001281-1777593600-1782086399@lansugarden.org
SUMMARY:Threading Together: AANHPI Traditional Attire Exhibit
DESCRIPTION:Regular hours: 10:00 AM – 6:30 PM; Saturday\, May 2 hours: 12:00-6:30 PM (Last entry at 6:00 PM daily) \n\n\n\nClothing is a powerful expression of culture\, reflecting history\, identity\, and tradition through form\, color\, and pattern. Threading Together brings together traditional attire from local AANHPI community members\, each piece offering a window into lived experience and cultural heritage. \n\n\n\nFeaturing garments from Thailand\, Polynesia\, China\, Japan\, Korea\, India\, Cambodia\, and the Philippines\, the exhibition highlights the richness and diversity of AANHPI cultural expression. \n\n\n\n\n\n\n\n\n\nParking & Directions\n\n\n\nFree Lan Su Parking\n\n\n\nThere is free first come\, first served parking in our sister lot next to the garden at 424 NW Third Avenue. Additional metered parking and garages are available on surrounding streets.
URL:https://lansugarden.org/event/threading-together-aanhpi-traditional-attire-exhibit/
LOCATION:Lan Su Chinese Garden\, 239 NW Everett Street\, Portland\, Oregon\, 97209
CATEGORIES:Free with admission or membership
ATTACH;FMTTYPE=image/webp:https://lansugarden.org/wp-content/uploads/ORAH24-007.webp
END:VEVENT
BEGIN:VEVENT
DTSTART;TZID=America/Los_Angeles:20260513T110000
DTEND;TZID=America/Los_Angeles:20260513T113000
DTSTAMP:20260424T060019
CREATED:20250819T214828Z
LAST-MODIFIED:20260220T232114Z
UID:10000768-1778670000-1778671800@lansugarden.org
SUMMARY:#PlantWednesday Spotlight
DESCRIPTION:Join our horticulture team every Wednesday for a tour diving into a plant in its peak\, gardening tips\, and more. \n\n\n\n\n\n\n\nWednesdays\, 11-11:30 AM | Free with admission or membership \n\n\n\nThe #PlantWednesday Spotlight is a unique “show & tell” program featuring different captivating topics every month. Meet Lan Su’s horticulture team each Wednesday to explore\, learn\, and connect with the natural beauty of Lan Su. These are short 30-min sessions that showcase a horticultural wonder\, technique\, or tool that our passionate horticulturists want to share with fellow plant enthusiasts. Each session will shine a light on the behind-the-scenes operations of the garden\, highlight a plant at its peak beauty\, or focus on recent improvements to our collection. \n\n\n\nEach session will explore a different part of the garden based on that week’s topic. When you arrive\, please check in with the front door staff or volunteers for the exact location to meet in. \n\n\n\n\nGet Admission\n\n\n\n\nThis program is FREE with garden admission or membership. No registration needed.
URL:https://lansugarden.org/event/plant-wednesday-spotlight/2026-05-13/
LOCATION:Lan Su Chinese Garden\, 239 NW Everett Street\, Portland\, Oregon\, 97209
CATEGORIES:Free with admission or membership,Horticulture,Tours
ATTACH;FMTTYPE=image/png:https://lansugarden.org/wp-content/uploads/PlantWednesday-Spotlight-hidden-garden.png
ORGANIZER;CN="Lan Su Chinese Garden":MAILTO:info@lansugarden.org
END:VEVENT
END:VCALENDAR