BEGIN:VCALENDAR
VERSION:2.0
PRODID:-//Lan Su Chinese Garden - ECPv6.15.20//NONSGML v1.0//EN
CALSCALE:GREGORIAN
METHOD:PUBLISH
X-WR-CALNAME:Lan Su Chinese Garden
X-ORIGINAL-URL:https://lansugarden.org
X-WR-CALDESC:Events for Lan Su Chinese Garden
REFRESH-INTERVAL;VALUE=DURATION:PT1H
X-Robots-Tag:noindex
X-PUBLISHED-TTL:PT1H
BEGIN:VTIMEZONE
TZID:America/Los_Angeles
BEGIN:DAYLIGHT
TZOFFSETFROM:-0800
TZOFFSETTO:-0700
TZNAME:PDT
DTSTART:20250309T100000
END:DAYLIGHT
BEGIN:STANDARD
TZOFFSETFROM:-0700
TZOFFSETTO:-0800
TZNAME:PST
DTSTART:20251102T090000
END:STANDARD
BEGIN:DAYLIGHT
TZOFFSETFROM:-0800
TZOFFSETTO:-0700
TZNAME:PDT
DTSTART:20260308T100000
END:DAYLIGHT
BEGIN:STANDARD
TZOFFSETFROM:-0700
TZOFFSETTO:-0800
TZNAME:PST
DTSTART:20261101T090000
END:STANDARD
BEGIN:DAYLIGHT
TZOFFSETFROM:-0800
TZOFFSETTO:-0700
TZNAME:PDT
DTSTART:20270314T100000
END:DAYLIGHT
BEGIN:STANDARD
TZOFFSETFROM:-0700
TZOFFSETTO:-0800
TZNAME:PST
DTSTART:20271107T090000
END:STANDARD
END:VTIMEZONE
BEGIN:VEVENT
DTSTART;TZID=America/Los_Angeles:20260501T000000
DTEND;TZID=America/Los_Angeles:20260621T235959
DTSTAMP:20260419T124339
CREATED:20260411T221003Z
LAST-MODIFIED:20260417T203115Z
UID:10001281-1777593600-1782086399@lansugarden.org
SUMMARY:Threading Together: AANHPI Traditional Attire Exhibit
DESCRIPTION:Regular hours: 10:00 AM – 6:30 PM; Saturday\, May 2 hours: 12:00-6:30 PM (Last entry at 6:00 PM daily) \n\n\n\nClothing is a powerful expression of culture\, reflecting history\, identity\, and tradition through form\, color\, and pattern. Threading Together brings together traditional attire from local AANHPI community members\, each piece offering a window into lived experience and cultural heritage. \n\n\n\nFeaturing garments from Thailand\, Polynesia\, China\, Japan\, Korea\, India\, Cambodia\, and the Philippines\, the exhibition highlights the richness and diversity of AANHPI cultural expression. \n\n\n\n\n\n\n\n\n\nParking & Directions\n\n\n\nFree Lan Su Parking\n\n\n\nThere is free first come\, first served parking in our sister lot next to the garden at 424 NW Third Avenue. Additional metered parking and garages are available on surrounding streets.
URL:https://lansugarden.org/event/threading-together-aanhpi-traditional-attire-exhibit/
LOCATION:Lan Su Chinese Garden\, 239 NW Everett Street\, Portland\, Oregon\, 97209
CATEGORIES:Free with admission or membership
ATTACH;FMTTYPE=image/webp:https://lansugarden.org/wp-content/uploads/ORAH24-007.webp
END:VEVENT
BEGIN:VEVENT
DTSTART;TZID=America/Los_Angeles:20260619T110000
DTEND;TZID=America/Los_Angeles:20260619T120000
DTSTAMP:20260419T124339
CREATED:20260403T220915Z
LAST-MODIFIED:20260403T220921Z
UID:10001041-1781866800-1781870400@lansugarden.org
SUMMARY:Wild Goose Qigong
DESCRIPTION:Join Wen Wu School Portland for weekly Wild Goose Qigong practice\, including tai chi warm-ups\, acupressure self-massage\, and walking meditation. \n\n\n\n\n\n\n\n11 AM – Noon |Fridays\, May 1 – October 30\, 2026 \n\n\n\nJoin Wen Wu School Portland in exploring Dayan\, or Wild Goose Qigong\, an ancient Chinese movement art developed to promote health\, well-being\, and longevity. Drop-in participation welcome! \n\n\n\nWild Goose (“Dayan” 大雁 in Chinese) Qigong is an ancient Chinese Taoist movement art that nurtures one’s inner energy – Qi – and restores a healthy mind and body. The 64 movement first set mimics the wild goose\, a highly revered animal of ancient China. With regular practice one can learn to access Qi for self-healing\, restore vital energy\, and strengthen one’s immune system to promote a healthy\, balanced\, and long life. Join Wen Wu School Portland for weekly Wild Goose Qigong practice classes\, which include tai chi warm-ups\, acupressure self-massage\, and walking meditation through the Garden. \n\n\n\n\nGet Admission\n\n\n\n\n\n\n\n\n\n\nLearn more about Wild Goose Qigong » \n\n\n\n\n\n\n\nParking & Directions\n\n\n\nFree Lan Su Parking\n\n\n\nThere is free first come\, first served parking in our sister lot next to the garden at 424 NW Third Avenue. Additional metered parking and garages are available on surrounding streets.
URL:https://lansugarden.org/event/wild-goose-qigong-2/2026-06-19/
LOCATION:Lan Su Chinese Garden\, 239 NW Everett Street\, Portland\, Oregon\, 97209
CATEGORIES:Free with admission or membership,Wellness
ATTACH;FMTTYPE=image/webp:https://lansugarden.org/wp-content/uploads/Wild-Goose-Qigong_1.webp
END:VEVENT
BEGIN:VEVENT
DTSTART;TZID=America/Los_Angeles:20260619T120000
DTEND;TZID=America/Los_Angeles:20260619T150000
DTSTAMP:20260419T124339
CREATED:20260403T214101Z
LAST-MODIFIED:20260404T212649Z
UID:10000974-1781870400-1781881200@lansugarden.org
SUMMARY:Music in The Garden
DESCRIPTION:Enjoy the gentle sounds of live Chinese music on traditional instruments such as erhu\, ruan qin\, and pipa. \n\n\n\n\n\n\n\nNoon – 3 PM | Fridays\, April 24 – September 25\, 2026 \n\n\n\nAs you stroll the garden pathways\, enjoy traditional Chinese music of erhu or guzheng by Lan Su musicians.  \n\n\n\nThe erhu is a bowed\, two-stringed Chinese vertical musical instrument. The guzheng is a traditional Chinese stringed instrument with 21 strings and movable bridges. \n\n\n\n\nGet Admission\n\n\n\n\n\n\n\n\n\n\nParking & Directions\n\n\n\nFree Lan Su Parking\n\n\n\nThere is free first come\, first served parking in our sister lot next to the garden at 424 NW Third Avenue. Additional metered parking and garages are available on surrounding streets.
URL:https://lansugarden.org/event/live-chinese-music-in-the-garden/2026-06-19/
LOCATION:Lan Su Chinese Garden\, 239 NW Everett Street\, Portland\, Oregon\, 97209
CATEGORIES:Free with admission or membership,Music
ATTACH;FMTTYPE=image/jpeg:https://lansugarden.org/wp-content/uploads/10001-4.jpg
END:VEVENT
END:VCALENDAR