BEGIN:VCALENDAR
VERSION:2.0
PRODID:-//Lan Su Chinese Garden - ECPv6.15.20//NONSGML v1.0//EN
CALSCALE:GREGORIAN
METHOD:PUBLISH
X-WR-CALNAME:Lan Su Chinese Garden
X-ORIGINAL-URL:https://lansugarden.org
X-WR-CALDESC:Events for Lan Su Chinese Garden
REFRESH-INTERVAL;VALUE=DURATION:PT1H
X-Robots-Tag:noindex
X-PUBLISHED-TTL:PT1H
BEGIN:VTIMEZONE
TZID:America/Los_Angeles
BEGIN:DAYLIGHT
TZOFFSETFROM:-0800
TZOFFSETTO:-0700
TZNAME:PDT
DTSTART:20240310T100000
END:DAYLIGHT
BEGIN:STANDARD
TZOFFSETFROM:-0700
TZOFFSETTO:-0800
TZNAME:PST
DTSTART:20241103T090000
END:STANDARD
BEGIN:DAYLIGHT
TZOFFSETFROM:-0800
TZOFFSETTO:-0700
TZNAME:PDT
DTSTART:20250309T100000
END:DAYLIGHT
BEGIN:STANDARD
TZOFFSETFROM:-0700
TZOFFSETTO:-0800
TZNAME:PST
DTSTART:20251102T090000
END:STANDARD
BEGIN:DAYLIGHT
TZOFFSETFROM:-0800
TZOFFSETTO:-0700
TZNAME:PDT
DTSTART:20260308T100000
END:DAYLIGHT
BEGIN:STANDARD
TZOFFSETFROM:-0700
TZOFFSETTO:-0800
TZNAME:PST
DTSTART:20261101T090000
END:STANDARD
END:VTIMEZONE
BEGIN:VEVENT
DTSTART;TZID=America/Los_Angeles:20251116T100000
DTEND;TZID=America/Los_Angeles:20251116T120000
DTSTAMP:20260419T105228
CREATED:20251105T224922Z
LAST-MODIFIED:20251111T004102Z
UID:10000566-1763287200-1763294400@lansugarden.org
SUMMARY:*SOLD OUT* Dried Flower Wreath Workshop
DESCRIPTION:Join Madeline from Walking Whale Flower Farm for a holiday wreath workshop in the garden! Participants will be provided all materials necessary and guided through creating their own 100% locally grown 10″ dried flower wreath\, perfect for the holiday season.    \n\n\n\nNote: this workshop requires delicate fine motor skills and is best suited for ages 13+  \n\n\n\n\n\n\n\n\n\n\nJoin the Workshop
URL:https://lansugarden.org/event/dried-flower-wreath-workshop/
LOCATION:Lan Su Chinese Garden\, 239 NW Everett Street\, Portland\, Oregon\, 97209
CATEGORIES:Art,Horticulture,Learning
ATTACH;FMTTYPE=image/jpeg:https://lansugarden.org/wp-content/uploads/IMG_7016-2.jpeg
END:VEVENT
BEGIN:VEVENT
DTSTART;TZID=America/Los_Angeles:20251116T110000
DTEND;TZID=America/Los_Angeles:20251116T110000
DTSTAMP:20260419T105228
CREATED:20251025T234838Z
LAST-MODIFIED:20251112T104736Z
UID:10000559-1763290800-1763290800@lansugarden.org
SUMMARY:Growing Mums Talk & Tour
DESCRIPTION:Learn how chrysanthemums are grown and styled by one of Lan Su’s gardeners. Mums may possibly be some of the easiest ornamentals to grow and the styling possibilities are also endless! The talk will walk through the many styles we incorporate in our displays.  \n\n\n\n\n\n\nGet Admission
URL:https://lansugarden.org/event/growing-mums/2025-11-16/
LOCATION:Lan Su Chinese Garden\, 239 NW Everett Street\, Portland\, Oregon\, 97209
CATEGORIES:Free with admission or membership,Horticulture,Tours
ATTACH;FMTTYPE=image/jpeg:https://lansugarden.org/wp-content/uploads/Purple-Mums.jpg
END:VEVENT
BEGIN:VEVENT
DTSTART;TZID=America/Los_Angeles:20251119T110000
DTEND;TZID=America/Los_Angeles:20251119T110000
DTSTAMP:20260419T105228
CREATED:20251112T104317Z
LAST-MODIFIED:20251112T104322Z
UID:10000562-1763550000-1763550000@lansugarden.org
SUMMARY:#PlantWednesday: Chrysanthemums
DESCRIPTION:Get involved with chrysanthemums! There’s more to mums than your average grocery store potted plant. Learn how they’re propagated\, grown and prepared for display as well as why they’re still a revered flower and symbol of the fall season in Chinese culture.   \n\n\n\n\n\n\nGet Admission
URL:https://lansugarden.org/event/plantwednesday-chrysanthemums/2025-11-19/
LOCATION:Lan Su Chinese Garden\, 239 NW Everett Street\, Portland\, Oregon\, 97209
CATEGORIES:Free with admission or membership,Horticulture,Tours
ATTACH;FMTTYPE=image/jpeg:https://lansugarden.org/wp-content/uploads/fall-2024-River-City-2-e1762944126245.jpg
END:VEVENT
BEGIN:VEVENT
DTSTART;TZID=America/Los_Angeles:20251119T110000
DTEND;TZID=America/Los_Angeles:20251119T113000
DTSTAMP:20260419T105228
CREATED:20250819T214828Z
LAST-MODIFIED:20260220T232114Z
UID:10000510-1763550000-1763551800@lansugarden.org
SUMMARY:#PlantWednesday Spotlight
DESCRIPTION:Join our horticulture team every Wednesday for a tour diving into a plant in its peak\, gardening tips\, and more. \n\n\n\n\n\n\n\nWednesdays\, 11-11:30 AM | Free with admission or membership \n\n\n\nThe #PlantWednesday Spotlight is a unique “show & tell” program featuring different captivating topics every month. Meet Lan Su’s horticulture team each Wednesday to explore\, learn\, and connect with the natural beauty of Lan Su. These are short 30-min sessions that showcase a horticultural wonder\, technique\, or tool that our passionate horticulturists want to share with fellow plant enthusiasts. Each session will shine a light on the behind-the-scenes operations of the garden\, highlight a plant at its peak beauty\, or focus on recent improvements to our collection. \n\n\n\nEach session will explore a different part of the garden based on that week’s topic. When you arrive\, please check in with the front door staff or volunteers for the exact location to meet in. \n\n\n\n\nGet Admission\n\n\n\n\nThis program is FREE with garden admission or membership. No registration needed.
URL:https://lansugarden.org/event/plant-wednesday-spotlight/2025-11-19/
LOCATION:Lan Su Chinese Garden\, 239 NW Everett Street\, Portland\, Oregon\, 97209
CATEGORIES:Free with admission or membership,Horticulture,Tours
ATTACH;FMTTYPE=image/png:https://lansugarden.org/wp-content/uploads/PlantWednesday-Spotlight-hidden-garden.png
ORGANIZER;CN="Lan Su Chinese Garden":MAILTO:info@lansugarden.org
END:VEVENT
BEGIN:VEVENT
DTSTART;TZID=America/Los_Angeles:20251122T130000
DTEND;TZID=America/Los_Angeles:20251122T140000
DTSTAMP:20260419T105228
CREATED:20251105T221727Z
LAST-MODIFIED:20251111T011654Z
UID:10000564-1763816400-1763820000@lansugarden.org
SUMMARY:Chinese Floral Art Foundation Demo: Chrysanthemums in Chinese Floral Art 
DESCRIPTION:The chrysanthemum\, one of the four Noble Gentlemen of flowers in Chinese culture is innately Chinese and has been in cultivation for over 2000 years. Join Rosa Zee and Vivian Chan of the Chinese Floral Art Foundation to get a deeper understanding of the many styles of arrangement chrysanthemums can be used in Chinese floral art tradition.  \n\n\n\n\n\n\n\n\n\n\n\n\nGet Admission
URL:https://lansugarden.org/event/chinese-floral-art-foundation-demo-chrysanthemums-in-chinese-floral-art/
LOCATION:Lan Su Chinese Garden\, 239 NW Everett Street\, Portland\, Oregon\, 97209
CATEGORIES:Art,Free with admission or membership,Horticulture,Learning
ATTACH;FMTTYPE=image/png:https://lansugarden.org/wp-content/uploads/CFAF-chrysanthemum-demo-1200x800-1.png
END:VEVENT
END:VCALENDAR